{
 "currentVersion": 11.2,
 "cimVersion": "3.2.0",
 "serviceDescription": "",
 "mapName": "westcentral_cache",
 "description": "",
 "copyrightText": "",
 "supportsDynamicLayers": true,
 "layers": [
  {
   "id": 0,
   "name": "morgan.jp2",
   "parentLayerId": -1,
   "defaultVisibility": true,
   "subLayerIds": null,
   "minScale": 0,
   "maxScale": 0,
   "type": "Raster Layer",
   "supportsDynamicLegends": true
  },
  {
   "id": 1,
   "name": "calhoun.jp2",
   "parentLayerId": -1,
   "defaultVisibility": true,
   "subLayerIds": null,
   "minScale": 0,
   "maxScale": 0,
   "type": "Raster Layer",
   "supportsDynamicLegends": true
  },
  {
   "id": 2,
   "name": "greene.jp2",
   "parentLayerId": -1,
   "defaultVisibility": true,
   "subLayerIds": null,
   "minScale": 0,
   "maxScale": 0,
   "type": "Raster Layer",
   "supportsDynamicLegends": true
  }
 ],
 "tables": [],
 "spatialReference": {
  "wkid": 102672,
  "latestWkid": 3436,
  "xyTolerance": 0.003280833333333333,
  "zTolerance": 0.001,
  "mTolerance": 0.001,
  "falseX": -16150900,
  "falseY": -46131100,
  "xyUnits": 3048.0060960121928,
  "falseZ": -100000,
  "zUnits": 10000,
  "falseM": -100000,
  "mUnits": 10000
 },
 "singleFusedMapCache": true,
 "tileInfo": {
  "rows": 256,
  "cols": 256,
  "dpi": 96,
  "format": "Mixed",
  "compressionQuality": 75,
  "origin": {
   "x": -3.0516265667815052E7,
   "y": 1.9495025662871927E7
  },
  "spatialReference": {
   "wkid": 102672,
   "latestWkid": 3436,
   "xyTolerance": 0.003280833333333333,
   "zTolerance": 0.001,
   "mTolerance": 0.001,
   "falseX": -16150900,
   "falseY": -46131100,
   "xyUnits": 3048.0060960121928,
   "falseZ": -100000,
   "zUnits": 10000,
   "falseM": -100000,
   "mUnits": 10000
  },
  "lods": [
   {
    "level": 0,
    "resolution": 256350.38282147175,
    "scale": 2.953162316427987E8
   },
   {
    "level": 1,
    "resolution": 128175.19141073588,
    "scale": 1.4765811582139936E8
   },
   {
    "level": 2,
    "resolution": 64087.59570536794,
    "scale": 7.382905791069968E7
   },
   {
    "level": 3,
    "resolution": 32043.79785268397,
    "scale": 3.691452895534984E7
   },
   {
    "level": 4,
    "resolution": 16021.898926341984,
    "scale": 1.845726447767492E7
   },
   {
    "level": 5,
    "resolution": 8010.949463170992,
    "scale": 9228632.23883746
   },
   {
    "level": 6,
    "resolution": 4005.474731585496,
    "scale": 4614316.11941873
   },
   {
    "level": 7,
    "resolution": 2002.737365792748,
    "scale": 2307158.059709365
   },
   {
    "level": 8,
    "resolution": 1001.368682896374,
    "scale": 1153579.0298546825
   },
   {
    "level": 9,
    "resolution": 500.684341448187,
    "scale": 576789.5149273413
   },
   {
    "level": 10,
    "resolution": 250.3421707240935,
    "scale": 288394.7574636706
   },
   {
    "level": 11,
    "resolution": 125.17108536204675,
    "scale": 144197.3787318353
   },
   {
    "level": 12,
    "resolution": 62.58554268102338,
    "scale": 72098.68936591766
   },
   {
    "level": 13,
    "resolution": 31.29277134051169,
    "scale": 36049.34468295883
   },
   {
    "level": 14,
    "resolution": 15.646385670255844,
    "scale": 18024.672341479414
   },
   {
    "level": 15,
    "resolution": 7.823192835127922,
    "scale": 9012.336170739707
   },
   {
    "level": 16,
    "resolution": 3.911596417563961,
    "scale": 4506.1680853698535
   },
   {
    "level": 17,
    "resolution": 1.9557982087819805,
    "scale": 2253.0840426849268
   },
   {
    "level": 18,
    "resolution": 0.9778991043909903,
    "scale": 1126.5420213424634
   },
   {
    "level": 19,
    "resolution": 0.48894955219549513,
    "scale": 563.2710106712317
   },
   {
    "level": 20,
    "resolution": 0.24447477609774756,
    "scale": 281.63550533561585
   },
   {
    "level": 21,
    "resolution": 0.12223738804887378,
    "scale": 140.81775266780792
   },
   {
    "level": 22,
    "resolution": 0.06111869402443689,
    "scale": 70.40887633390396
   },
   {
    "level": 23,
    "resolution": 0.030559347012218446,
    "scale": 35.20443816695198
   }
  ]
 },
 "storageInfo": {
  "storageFormat": "esriMapCacheStorageModeCompactV2",
  "packetSize": 128
 },
 "initialExtent": {
  "xmin": 1866774.6960212083,
  "ymin": 735984.3255616635,
  "xmax": 2582584.0255651847,
  "ymax": 1206926.9689531887,
  "spatialReference": {
   "wkid": 102672,
   "latestWkid": 3436,
   "xyTolerance": 0.003280833333333333,
   "zTolerance": 0.001,
   "mTolerance": 0.001,
   "falseX": -16150900,
   "falseY": -46131100,
   "xyUnits": 3048.0060960121928,
   "falseZ": -100000,
   "zUnits": 10000,
   "falseM": -100000,
   "mUnits": 10000
  }
 },
 "fullExtent": {
  "xmin": 2075000.0001506398,
  "ymin": 799999.9995764574,
  "xmax": 2369999.9999944554,
  "ymax": 1169999.999380566,
  "spatialReference": {
   "wkid": 102672,
   "latestWkid": 3436,
   "xyTolerance": 0.003280833333333333,
   "zTolerance": 0.001,
   "mTolerance": 0.001,
   "falseX": -16150900,
   "falseY": -46131100,
   "xyUnits": 3048.0060960121928,
   "falseZ": -100000,
   "zUnits": 10000,
   "falseM": -100000,
   "mUnits": 10000
  }
 },
 "datesInUnknownTimezone": false,
 "minScale": 1153579.0298546825,
 "maxScale": 0,
 "minLOD": 8,
 "maxLOD": 18,
 "units": "esriFeet",
 "supportedImageFormatTypes": "PNG32,PNG24,PNG,JPG,DIB,TIFF,EMF,PS,PDF,GIF,SVG,SVGZ,BMP",
 "documentInfo": {
  "Title": "Map",
  "Author": "",
  "Comments": "",
  "Subject": "",
  "Category": "",
  "Version": "3.2.0",
  "AntialiasingMode": "Fast",
  "TextAntialiasingMode": "Force",
  "Keywords": "West Central Joint ETSB,imagery"
 },
 "supportsQueryDomains": true,
 "capabilities": "Map",
 "supportedQueryFormats": "JSON, geoJSON, PBF",
 "exportTilesAllowed": false,
 "referenceScale": 0.0,
 "datumTransformations": [
  {
   "geoTransforms": [
    {
     "wkid": 108190,
     "latestWkid": 108190,
     "transformForward": true,
     "name": "WGS_1984_(ITRF00)_To_NAD_1983"
    }
   ]
  },
  {
   "geoTransforms": [
    {
     "wkid": 108190,
     "latestWkid": 108190,
     "transformForward": false,
     "name": "WGS_1984_(ITRF00)_To_NAD_1983"
    }
   ]
  },
  {
   "geoTransforms": [
    {
     "wkid": 108190,
     "latestWkid": 108190,
     "transformForward": true,
     "name": "WGS_1984_(ITRF00)_To_NAD_1983"
    }
   ]
  },
  {
   "geoTransforms": [
    {
     "wkid": 108190,
     "latestWkid": 108190,
     "transformForward": false,
     "name": "WGS_1984_(ITRF00)_To_NAD_1983"
    }
   ]
  }
 ],
 "supportsDatumTransformation": true,
 "archivingInfo": {
  "supportsHistoricMoment": false
 },
 "supportsClipping": true,
 "supportsSpatialFilter": true,
 "supportsTimeRelation": true,
 "supportsQueryDataElements": true,
 "mapUnits": {
  "uwkid": 9003
 },
 "maxRecordCount": 2000,
 "maxImageHeight": 4096,
 "maxImageWidth": 4096,
 "supportedExtensions": "",
 "resampling": true
}
